BEGIN:VCALENDAR
VERSION:2.0
PRODID:-//Felicitydtp | Drumetii si Cursuri de schi - ECPv6.15.20//NONSGML v1.0//EN
CALSCALE:GREGORIAN
METHOD:PUBLISH
X-ORIGINAL-URL:https://www.felicitydtp.ro
X-WR-CALDESC:Evenimente pentru Felicitydtp | Drumetii si Cursuri de schi
REFRESH-INTERVAL;VALUE=DURATION:PT1H
X-Robots-Tag:noindex
X-PUBLISHED-TTL:PT1H
BEGIN:VTIMEZONE
TZID:Europe/Helsinki
BEGIN:DAYLIGHT
TZOFFSETFROM:+0200
TZOFFSETTO:+0300
TZNAME:EEST
DTSTART:20180325T010000
END:DAYLIGHT
BEGIN:STANDARD
TZOFFSETFROM:+0300
TZOFFSETTO:+0200
TZNAME:EET
DTSTART:20181028T010000
END:STANDARD
BEGIN:DAYLIGHT
TZOFFSETFROM:+0200
TZOFFSETTO:+0300
TZNAME:EEST
DTSTART:20190331T010000
END:DAYLIGHT
BEGIN:STANDARD
TZOFFSETFROM:+0300
TZOFFSETTO:+0200
TZNAME:EET
DTSTART:20191027T010000
END:STANDARD
BEGIN:DAYLIGHT
TZOFFSETFROM:+0200
TZOFFSETTO:+0300
TZNAME:EEST
DTSTART:20200329T010000
END:DAYLIGHT
BEGIN:STANDARD
TZOFFSETFROM:+0300
TZOFFSETTO:+0200
TZNAME:EET
DTSTART:20201025T010000
END:STANDARD
END:VTIMEZONE
BEGIN:VEVENT
DTSTART;VALUE=DATE:20191005
DTEND;VALUE=DATE:20191006
DTSTAMP:20260426T040313
CREATED:20190701T124709Z
LAST-MODIFIED:20190918T143530Z
UID:7252-1570233600-1570319999@www.felicitydtp.ro
SUMMARY:Voluntariat pentru ecologizarea zonei Cascada Urlatoarea - Busteni! 5 octombrie 2019
DESCRIPTION:Bună tuturor! \nVă invităm cu mic cu mare la o acțiune de ecologizare în Bușteni\, zona Urlătoare. \nPlecam dimineata cu trenul sau masini personale si la ora 9 ne intalnim la telecabina din Busteni. \nDe acolo vom urca spre Cascada Urlatoare si la intoarcere vom strange gunoaiele din poteca. \nPlaneta e sufocata de gunoaie\, putem face o contributie noi ca sa fie mai curata! \nPe langa echipamentul de munte\, e nevoie ca fiecare sa ia saci de gunoi mai rezistenti 40 l\, manusi de unica folosinta (minim 2 perechi). \nPentru orice nelamuriri\, nu ezitati sa ma contactati. \nNe vedem la deal! \n  \n 
URL:https://www.felicitydtp.ro/curs/volutariat-pentru-ecologizarea-zonei-cascada-urlatoarea-busteni/
LOCATION:Padina\, România
CATEGORIES:Drumeții pentru familii
ATTACH;FMTTYPE=image/jpeg:https://www.felicitydtp.ro/wp-content/uploads/2019/07/41844788_10216290070858219_2939126707124174848_n-e1568719956521.jpg
ORGANIZER;CN="Felicia si Claudia":MAILTO:office@felicitydtp.ro
END:VEVENT
BEGIN:VEVENT
DTSTART;VALUE=DATE:20191013
DTEND;VALUE=DATE:20191014
DTSTAMP:20260426T040313
CREATED:20191008T075909Z
LAST-MODIFIED:20191009T120427Z
UID:7736-1570924800-1571011199@www.felicitydtp.ro
SUMMARY:2 orase\, 1 cascada si 1 muzeu
DESCRIPTION:Buna dragi parinti si copii! \nVa propun o plimbare cu trenul din Bucuresti spre munte\, mai exact Busteni – prima halta si apoi Sinaia\, a doua halta. \nLa Busteni facem o drumetie usoara in circuit spre Cascada Urlatoarea 1 h si apoi coboram in Poiana Tapului 1 h. \nDin Poiana Tapului ne deplasam cu un microbuz local spre Sinaia pentru a vizita muzeul trenuletelor. \nPlecarea din Bucuresti va fi la ora 8.40 si intoarcerea va fi la ora 17.04. \nInscrierea va fi pana pe 9.10 \nGhid montan: Felicia Farcaș \nData plecarii este duminica 13.10.2019\nNe vom intalni la panoul central de afisaj al trenurilor la ora 8\,15. \nEchipament necesar: bocanci\, gecuta de ploaie/vant\, rucsac copil si adult\, apa 1 l de persoana\, mancare/fructe. \nCosturi: \nContributia dumneavoastra este de 50 lei/familie. Se achita doar online in urma emiterii facturii. \nPretul biletului dus intors pentru un adult este 36.40 lei si un elev 18.20 lei. Biletele le achitionez eu cel tarziu miercuri 9.10. \nhttps://regiocalatori.ro/#/cautare/ \nIntrarea la muzeu maxim 10 lei \nPentru inscrieri va rog sa ma anuntati personal la telefon sau email. \nVa asteptam cu drag eu si Luca! \n  \n  \n  \n  \n  \n  \n 
URL:https://www.felicitydtp.ro/curs/2-orase-1-cascada-si-1-muzeu/
LOCATION:Bușteni\, Partia Kalinderu\, Strada Matei Basarab 28\, Bușteni\, Prahova\, 105500\, România
CATEGORIES:Drumeții pentru familii
ATTACH;FMTTYPE=image/jpeg:https://www.felicitydtp.ro/wp-content/uploads/2014/04/1-IMG_1712.jpg
ORGANIZER;CN="Felicia si Claudia":MAILTO:office@felicitydtp.ro
END:VEVENT
END:VCALENDAR