BEGIN:VCALENDAR
VERSION:2.0
PRODID:-//Felicitydtp | Drumetii si Cursuri de schi - ECPv6.15.20//NONSGML v1.0//EN
CALSCALE:GREGORIAN
METHOD:PUBLISH
X-WR-CALNAME:Felicitydtp | Drumetii si Cursuri de schi
X-ORIGINAL-URL:https://www.felicitydtp.ro
X-WR-CALDESC:Evenimente pentru Felicitydtp | Drumetii si Cursuri de schi
REFRESH-INTERVAL;VALUE=DURATION:PT1H
X-Robots-Tag:noindex
X-PUBLISHED-TTL:PT1H
BEGIN:VTIMEZONE
TZID:Europe/Helsinki
BEGIN:DAYLIGHT
TZOFFSETFROM:+0200
TZOFFSETTO:+0300
TZNAME:EEST
DTSTART:20190331T010000
END:DAYLIGHT
BEGIN:STANDARD
TZOFFSETFROM:+0300
TZOFFSETTO:+0200
TZNAME:EET
DTSTART:20191027T010000
END:STANDARD
BEGIN:DAYLIGHT
TZOFFSETFROM:+0200
TZOFFSETTO:+0300
TZNAME:EEST
DTSTART:20200329T010000
END:DAYLIGHT
BEGIN:STANDARD
TZOFFSETFROM:+0300
TZOFFSETTO:+0200
TZNAME:EET
DTSTART:20201025T010000
END:STANDARD
BEGIN:DAYLIGHT
TZOFFSETFROM:+0200
TZOFFSETTO:+0300
TZNAME:EEST
DTSTART:20210328T010000
END:DAYLIGHT
BEGIN:STANDARD
TZOFFSETFROM:+0300
TZOFFSETTO:+0200
TZNAME:EET
DTSTART:20211031T010000
END:STANDARD
END:VTIMEZONE
BEGIN:VEVENT
DTSTART;VALUE=DATE:20200314
DTEND;VALUE=DATE:20200315
DTSTAMP:20260425T211942
CREATED:20200217T131729Z
LAST-MODIFIED:20200217T132314Z
UID:7859-1584144000-1584230399@www.felicitydtp.ro
SUMMARY:Muntele Postăvaru
DESCRIPTION:Bună tuturor. \nVă invităm să explorați împreună cu noi zona Râșnovului\, muntele Postăvaru. \nPentru cine este drumeția: toată familia\, inclusiv copiii mici în rucsac. \nGrad de dificultate: foarte ușor \nGhid montan: Felicia Farcaș \nÎntâlnirea va fi la ora 9\,30 în parcarea de la Cetate. Vom urca pe jos spre cetate (0\,5 h). \nDupa vizita la cetate vom merge spre Peștera Valea Cetății. \nUlterior ne deplasăm spre Chei și vom petrece timp până seara. \nVom face picnic în Chei\, în spațiile amenajate. Aici vom ridica ochii spre cer ca să admirăm pereții semeți pe care se cațără alpiniștii. \nCine vrea\, poate veni și cu bicicleta. Ne putem deplasa prin chei cu bicicleta. Recuzita de joc este necesară: mingi\, rachete\, etc. \nSchimb energetic: 183 lei/familie.\nPlata online se face doar în urma facturii emise de mine. \nTaxele de pestera si cetate se achita separat. \nCondiții de desfășurare: minim 3 familii \nVă așteptăm cu bucurie! \n  \n  \n  \n 
URL:https://www.felicitydtp.ro/curs/muntele-postavaru/
CATEGORIES:Drumeții pentru familii
ATTACH;FMTTYPE=image/jpeg:https://www.felicitydtp.ro/wp-content/uploads/2019/06/bicla-600.400.jpg
ORGANIZER;CN="Felicia si Claudia":MAILTO:office@felicitydtp.ro
END:VEVENT
BEGIN:VEVENT
DTSTART;VALUE=DATE:20200321
DTEND;VALUE=DATE:20200322
DTSTAMP:20260425T211942
CREATED:20200217T142641Z
LAST-MODIFIED:20200217T142641Z
UID:7879-1584748800-1584835199@www.felicitydtp.ro
SUMMARY:Cabana Trei Brazi cu brândușe și ghiocei
DESCRIPTION:Bună dragi prieteni!\nVă invităm să continuăm descoperirea masivului Postăvaru spre o cabană dragă mie\, Trei Brazi.\nVom porni în explorarea pădurii din Cotul Donului. \nSper să gasim ghiocei și brândușe în poiana de la cabană. \nTimp de joacă și relaxare cât e ziua de lungă. \nPentru cine este drumeția: toată familia \nDificultatea traseului: ușor 1\,5 h dus și 1 h întors \nGhid montan: Felicia Farcaș \nMasa o luăm în poiană – picnic sau cabană. \nDeplasarea va fi cu mașinile personale. \nSchimb energetic: 183 lei/familie\nPlata online se face după ce vă scriu factura. \nÎntâlnirea va fi în Predeal\, Cotul Donului la ora 9\,30 \nEchipament necesar: bocanci\, geacă de ploaie\, apă 1 l/persoană \nCel mai important este cheful de plimbare 🙂 \nVă așteptăm cu bucurie!
URL:https://www.felicitydtp.ro/curs/cabana-trei-brazi-cu-branduse-si-ghiocei/
CATEGORIES:Drumeții pentru familii
ATTACH;FMTTYPE=image/jpeg:https://www.felicitydtp.ro/wp-content/uploads/2010/09/IMG_70172.jpg
ORGANIZER;CN="Felicia si Claudia":MAILTO:office@felicitydtp.ro
END:VEVENT
END:VCALENDAR