BEGIN:VCALENDAR
VERSION:2.0
PRODID:-//Felicitydtp | Drumetii si Cursuri de schi - ECPv6.15.20//NONSGML v1.0//EN
CALSCALE:GREGORIAN
METHOD:PUBLISH
X-WR-CALNAME:Felicitydtp | Drumetii si Cursuri de schi
X-ORIGINAL-URL:https://www.felicitydtp.ro
X-WR-CALDESC:Evenimente pentru Felicitydtp | Drumetii si Cursuri de schi
REFRESH-INTERVAL;VALUE=DURATION:PT1H
X-Robots-Tag:noindex
X-PUBLISHED-TTL:PT1H
BEGIN:VTIMEZONE
TZID:Europe/Helsinki
BEGIN:DAYLIGHT
TZOFFSETFROM:+0200
TZOFFSETTO:+0300
TZNAME:EEST
DTSTART:20190331T010000
END:DAYLIGHT
BEGIN:STANDARD
TZOFFSETFROM:+0300
TZOFFSETTO:+0200
TZNAME:EET
DTSTART:20191027T010000
END:STANDARD
BEGIN:DAYLIGHT
TZOFFSETFROM:+0200
TZOFFSETTO:+0300
TZNAME:EEST
DTSTART:20200329T010000
END:DAYLIGHT
BEGIN:STANDARD
TZOFFSETFROM:+0300
TZOFFSETTO:+0200
TZNAME:EET
DTSTART:20201025T010000
END:STANDARD
BEGIN:DAYLIGHT
TZOFFSETFROM:+0200
TZOFFSETTO:+0300
TZNAME:EEST
DTSTART:20210328T010000
END:DAYLIGHT
BEGIN:STANDARD
TZOFFSETFROM:+0300
TZOFFSETTO:+0200
TZNAME:EET
DTSTART:20211031T010000
END:STANDARD
END:VTIMEZONE
BEGIN:VEVENT
DTSTART;TZID=Europe/Helsinki:20200421T190000
DTEND;TZID=Europe/Helsinki:20200421T203000
DTSTAMP:20260425T200350
CREATED:20200414T125750Z
LAST-MODIFIED:20200414T130024Z
UID:7905-1587495600-1587501000@www.felicitydtp.ro
SUMMARY:Drumeția montană
DESCRIPTION:Dragi iubitori de munte vă invit la o suită de întâlniri online pentru a discuta despre drumeția montană. \nAceste module au ca scop informarea și deplasarea în excursiile dumneavoastră în deplină siguranță și în armonie cu natura. \nPrimul modul va fi mai general\, în special cu răspunsuri la întrebările dumneavoastră despre subiect. \nVom discuta aspecte care țin strict de drumeția montană: îmbrăcăminte – echipament\, alegerea traseului\, marcaje\, ghizi\, meteo\, siguranță\, prim ajutor\, salvamont\, cabane\, mâncare\, etc. \nAveți ocazia aceasta unică să ne întâlnim în mediul online înainte de a ieși în drumeții. \nCursul se adresează adulților care vor să iasă în natură cu copii dar și celorlalți drumeți. Vom avea și aplicații practice în natură (voi anunța din timp). \nDesfășurarea lui va fi online pe platforma Zoom. Va dura 1h-1\,5 h. \nVa fi susținut săptămânal\, cu teme diferite. \nÎnscrierile se fac doar pe email office@felicitydtp.ro \nOrganizator: Felicia Farcaș\, ghid montan\, peste 10 ani de experință pe munte \nVă aștept cu bucurie! \n  \n 
URL:https://www.felicitydtp.ro/curs/drumetia-montana/
LOCATION:acasa
CATEGORIES:Drumeții pentru familii
ATTACH;FMTTYPE=image/jpeg:https://www.felicitydtp.ro/wp-content/uploads/2019/07/malaiesti.jpg
ORGANIZER;CN="Felicia si Claudia":MAILTO:office@felicitydtp.ro
END:VEVENT
END:VCALENDAR