BEGIN:VCALENDAR
VERSION:2.0
PRODID:-//Felicitydtp | Drumetii si Cursuri de schi - ECPv6.15.20//NONSGML v1.0//EN
CALSCALE:GREGORIAN
METHOD:PUBLISH
X-ORIGINAL-URL:https://www.felicitydtp.ro
X-WR-CALDESC:Evenimente pentru Felicitydtp | Drumetii si Cursuri de schi
REFRESH-INTERVAL;VALUE=DURATION:PT1H
X-Robots-Tag:noindex
X-PUBLISHED-TTL:PT1H
BEGIN:VTIMEZONE
TZID:Europe/Helsinki
BEGIN:DAYLIGHT
TZOFFSETFROM:+0200
TZOFFSETTO:+0300
TZNAME:EEST
DTSTART:20190331T010000
END:DAYLIGHT
BEGIN:STANDARD
TZOFFSETFROM:+0300
TZOFFSETTO:+0200
TZNAME:EET
DTSTART:20191027T010000
END:STANDARD
BEGIN:DAYLIGHT
TZOFFSETFROM:+0200
TZOFFSETTO:+0300
TZNAME:EEST
DTSTART:20200329T010000
END:DAYLIGHT
BEGIN:STANDARD
TZOFFSETFROM:+0300
TZOFFSETTO:+0200
TZNAME:EET
DTSTART:20201025T010000
END:STANDARD
BEGIN:DAYLIGHT
TZOFFSETFROM:+0200
TZOFFSETTO:+0300
TZNAME:EEST
DTSTART:20210328T010000
END:DAYLIGHT
BEGIN:STANDARD
TZOFFSETFROM:+0300
TZOFFSETTO:+0200
TZNAME:EET
DTSTART:20211031T010000
END:STANDARD
END:VTIMEZONE
BEGIN:VEVENT
DTSTART;VALUE=DATE:20200529
DTEND;VALUE=DATE:20200602
DTSTAMP:20260425T170717
CREATED:20200508T110116Z
LAST-MODIFIED:20200508T110116Z
UID:7942-1590710400-1591055999@www.felicitydtp.ro
SUMMARY:1 iunie - cu copiii în Expediţie - Banat
DESCRIPTION:Bine vă regăsesc îndrăgostiţi de natură! \nVă propun să le oferiţi copiilor voştri un cadou de ziua lor (avem şi noi adulţii un copil în noi). O experienţă de dormit la cort în natură\, semi-sălbăticie. Spun semi căci nu vom dormi sus în munţi.\nDe fapt vă provoc la o expediţie în Banat\, 3 nopţi şi 4 zile. \nÎn Banat vara vine mai repede aşa că ne putem instala corturile fără probleme 🙂 \nBanatul este magic\, şoseaua de la Clisura Dunării\, Statuia lui Decebal văzută din barca cu motor\, Peştera Ponicova\, cascadele toate din zona Nerei\, Morile de apă de la Eftimie Murgu\, Gara Oraviţa şi Anina – prima cale ferată de la noi. Apoi lacurile superbe Beiu\, Lacul Dracului… cu o culoare aparte\, turcoaz. Rafting pe Nera. Tuneluri săpate de mineri. Toate numai minuni ale naturii pe care avem privilegiul să le avem aproape de noi şi să le vizităm.\nAstea sunt obiective si activităţi din zonă pe care le putem accesa şi trăi. \nVom sta la un camping într-o zonă de campare. Sau în două\, trei zone\, depinde de grupul format şi de dorinţa de explorare. De exemplu\, ar fi o opţiune să dormim într-o pădure de pin negru\, deasupra Dunării 🙂 \nLogistica turei o voi anunţa doar persoanelor înscrise. \nEchipamentul necesar: \n\ntot ce ţine de camping (cort\, sac de dormit 10 grade confort – nopţile sunt răcoroase\, saltea sau izopren\, lanterne\, baterii de rezervă). Puteţi lua hamacele.\nbocanci\, adidaşi\, sandale\nhaine de drumeţit (gecuţă de ploaie obligatoriu) + haine grosuţe dar şi de vară\nochelari de soare\, protecţie solară cine se ştie cu probleme\nşepci sau bandane – vor fi zile când ne va bate soare în cap multe ore\ntacâmuri\, veselă\, cuţite\, boluri\, oale\, căni – nu de unică folosinţă (avem apă)\narzător pentru cafea\, ceai\, supe instant. Vom găti cina la comun.\nschimburi multe\, mai ales pentru copiii\njocuri\nmese\, scaune de camping\n\nNe vom organiza astfel încât fiecare să-şi aducă aportul pentru organizarea şi desfăşurarea expediţiei. \nFOARTE IMPORTANT: Săpunul de faţă\, detergent de vase sau rufe să fie din gama ECO BIO. \nApa o vom lua de la izvor iar mâncarea din traistă. \nCine nu are echipament de camping\, poate cumpăra\, împrumuta sau închiria. \nMă opresc aici cu prezentarea. \nCine simte chemarea să experimenteze aceste zile\, este primit cu bucurie! \nVă rog să-mi scrieţi pe email office@felicitydtp.ro \nMenţiune: am mai organizat grupuri de drumeţie în zonă cel puţin 3\, ani diferiţi de 1 mai  – şi de fiecare dată revin cu mare\, bucurie. O să înţelegeţi singuri de ce 🙂 Cu Luca am făcut asta cand avea 2\,5 ani. \nVă propun să ieşiţi din zona de confort şi să faceţi ceva diferit de cum făceaţi până acum. Nu uitaţi că aveţi alături de voi un ghid şi alte familii. Deci nu sunteţi singuri în asta. \nAceastă tură va fi tradiţie\, în fiecare an. \nGhid turistic şi montan: Felicia Farcaş \nHaideţi la cort! \n 
URL:https://www.felicitydtp.ro/curs/1-iunie-cu-copiii-in-expeditie-banat/
LOCATION:Cazanele Dunarii\, Orsova\, gara
CATEGORIES:Drumeții pentru familii
ATTACH;FMTTYPE=image/jpeg:https://www.felicitydtp.ro/wp-content/uploads/2020/05/IMG_20180526_190136-scaled.jpg
ORGANIZER;CN="Felicia si Claudia":MAILTO:office@felicitydtp.ro
END:VEVENT
BEGIN:VEVENT
DTSTART;VALUE=DATE:20200614
DTEND;VALUE=DATE:20200615
DTSTAMP:20260425T170717
CREATED:20200525T134729Z
LAST-MODIFIED:20200525T135127Z
UID:7955-1592092800-1592179199@www.felicitydtp.ro
SUMMARY:Vulcanii Noroioşi
DESCRIPTION:Bună drumeţilor! Mergem într-un peisaj selenar 🙂 Vulcanii Noroioşi! \nVă invit de această dată la o plimbare de descoperire a vulcanilor. Pentru cei mici va fi un deliciu. \nVom face şi o plimbare pe jos de 2 h dus-întors de la Pâclele Mari la cele Mici pentru a observa în ambele zone vulcanii. \nVă recomand să vă luaţi mâncare şi apă pentru toată ziua. Eventual o gecuţă de ploaie. \nMai multe detalii primiţi după înscriere. \nÎnscrierea se face pe email office@felicitydtp.ro \nGhid turistic şi montan – Felicia Farcaş \nVă aşteptăm cu mare bucurie! \nps. Respect absolut faţă de tot ce găsim în natură şi faţă de oamenii cu care călătorim!
URL:https://www.felicitydtp.ro/curs/vulcanii-noroiosi/
LOCATION:Paclele Mari
CATEGORIES:Drumeții pentru familii
ATTACH;FMTTYPE=image/jpeg:https://www.felicitydtp.ro/wp-content/uploads/2020/05/IMG_20170429_145721-scaled.jpg
ORGANIZER;CN="Felicia si Claudia":MAILTO:office@felicitydtp.ro
END:VEVENT
END:VCALENDAR