BEGIN:VCALENDAR
VERSION:2.0
PRODID:-//Felicitydtp | Drumetii si Cursuri de schi - ECPv6.15.20//NONSGML v1.0//EN
CALSCALE:GREGORIAN
METHOD:PUBLISH
X-ORIGINAL-URL:https://www.felicitydtp.ro
X-WR-CALDESC:Evenimente pentru Felicitydtp | Drumetii si Cursuri de schi
REFRESH-INTERVAL;VALUE=DURATION:PT1H
X-Robots-Tag:noindex
X-PUBLISHED-TTL:PT1H
BEGIN:VTIMEZONE
TZID:Europe/Helsinki
BEGIN:DAYLIGHT
TZOFFSETFROM:+0200
TZOFFSETTO:+0300
TZNAME:EEST
DTSTART:20200329T010000
END:DAYLIGHT
BEGIN:STANDARD
TZOFFSETFROM:+0300
TZOFFSETTO:+0200
TZNAME:EET
DTSTART:20201025T010000
END:STANDARD
BEGIN:DAYLIGHT
TZOFFSETFROM:+0200
TZOFFSETTO:+0300
TZNAME:EEST
DTSTART:20210328T010000
END:DAYLIGHT
BEGIN:STANDARD
TZOFFSETFROM:+0300
TZOFFSETTO:+0200
TZNAME:EET
DTSTART:20211031T010000
END:STANDARD
BEGIN:DAYLIGHT
TZOFFSETFROM:+0200
TZOFFSETTO:+0300
TZNAME:EEST
DTSTART:20220327T010000
END:DAYLIGHT
BEGIN:STANDARD
TZOFFSETFROM:+0300
TZOFFSETTO:+0200
TZNAME:EET
DTSTART:20221030T010000
END:STANDARD
END:VTIMEZONE
BEGIN:VEVENT
DTSTART;VALUE=DATE:20210601
DTEND;VALUE=DATE:20210602
DTSTAMP:20260425T004321
CREATED:20210428T135113Z
LAST-MODIFIED:20250312T113022Z
UID:8632-1622505600-1622591999@www.felicitydtp.ro
SUMMARY:Ciucaș cu copiii
DESCRIPTION:Bună dragi copiii și părinți! Vă invit în munții Ciucașului cu copiii pentru a vedea un fenomen unic – muntele e roșu\, plin de bujori de munte sau rododendron. Această floare este protejată de lege și nu avem voie să o rupem. \nVom urca până pe vârf\, vreo 2-3 h în ritmul copiilor\, coborârea în  1\,5 h. \nÎntâlnirea este la Muntele Roșu\, din DN1 A se face dreapta spre Cabana cu același nume Muntele Roșu. \nOra 10\,00 la Cabana Muntele Roșu. \nEchipament: \n\nIncaltaminte obligatorie bocanci\, apa mai multa\, daca va fi cald\, la urcare consumam mai mult.\nPantaloni si bluzita cu maneci lungi\, soarele arde. Ceva pe cap pentru a evita insolatia.\nMancare pentru traseu sa aveti la voi.\nRecomand ca si copiii sa aiba rucsacelul lor\, foarte mic si usor.\nGecuta sau pelerina de ploaie\nBete de treking cine are si vrea sa invete sa le foloseasca\n\nVă așteptăm cu bucurie! \nMă înscriu în Tabără! (click către pagina Contact)
URL:https://www.felicitydtp.ro/curs/ciucas-cu-copiii/
CATEGORIES:Drumetii pentru copii,Drumeții pentru familii
ATTACH;FMTTYPE=image/jpeg:https://www.felicitydtp.ro/wp-content/uploads/2019/02/33720290_10215467484734080_841331157814476800_n.jpg
ORGANIZER;CN="Felicia si Claudia":MAILTO:office@felicitydtp.ro
END:VEVENT
BEGIN:VEVENT
DTSTART;VALUE=DATE:20210619
DTEND;VALUE=DATE:20210622
DTSTAMP:20260425T004321
CREATED:20210428T121110Z
LAST-MODIFIED:20210609T071554Z
UID:8594-1624060800-1624319999@www.felicitydtp.ro
SUMMARY:Rusaliile pe Dunăre
DESCRIPTION:Bună dragi iubitori de oameni și natură! Dunărea cu a ei valuri albastre ne așteaptă în aceste zile libere! \nPropun o ieșire de 3 zile în Banat în locuri magice și spectaculoase. Cine are copiii\, ii poate lua cu ei. Eu voi veni cu Luca\, 9 ani. Eventual punem un cort pentru ei\, intră 6 copiii în el! \nCe facem? Traseele vor fi ușoare 3-4h. \n\nvom face o plimbare prin Cazanele Mari și Mici cu barca privată\nvom admira statuia lui Decebal\nintrăm în Peștera Ponicova și Veterani\nurcăm pe Ciucaru Mare să vedem Dunărea de sus\npoate ajungem și la Bigăr\nși mai vedem ce mai facem\, în funcție de dorința voastră de explorare\n\nCazarea va fi în camping Mala\, la cort sau căsuțe sau la pensiunile din Eșelnița. E nevoie să anunțăm din timp rezervările. Rezervările după preferințe le faceți personal\, dacă doriți să împărțiți camera mă anunțați să vă pun în legătură. \nCine vrea să experimenteze cortul\, o poate face\, în camping exista dușuri. (Eu am echipament de închiriat pentru cine vrea). Nu este restaurant în camping\, doar o chicinetă unde ne putem găti. Cred că vă voi propune să gătim cinele împreună. Într-o seară gătesc fetele și într-o seară băieții. \nAlte detalii le primiți după înscriere. \nCompletați formularul și pornim la drum! \n\n						\n						\nNe vedem la deal! \n  \nps. Prețul nu include masă\, cazare\, transport\, obiective. \n 
URL:https://www.felicitydtp.ro/curs/rusaliile-pe-dunare-dating/
CATEGORIES:Drumetii pentru copii,Drumeții pentru familii,Treking Dating Time
ATTACH;FMTTYPE=image/jpeg:https://www.felicitydtp.ro/wp-content/uploads/2021/04/IMG_20200726_140800-001.jpg
ORGANIZER;CN="Felicia si Claudia":MAILTO:office@felicitydtp.ro
END:VEVENT
END:VCALENDAR