BEGIN:VCALENDAR
VERSION:2.0
PRODID:-//Felicitydtp | Drumetii si Cursuri de schi - ECPv6.15.20//NONSGML v1.0//EN
CALSCALE:GREGORIAN
METHOD:PUBLISH
X-ORIGINAL-URL:https://www.felicitydtp.ro
X-WR-CALDESC:Evenimente pentru Felicitydtp | Drumetii si Cursuri de schi
REFRESH-INTERVAL;VALUE=DURATION:PT1H
X-Robots-Tag:noindex
X-PUBLISHED-TTL:PT1H
BEGIN:VTIMEZONE
TZID:Europe/Helsinki
BEGIN:DAYLIGHT
TZOFFSETFROM:+0200
TZOFFSETTO:+0300
TZNAME:EEST
DTSTART:20210328T010000
END:DAYLIGHT
BEGIN:STANDARD
TZOFFSETFROM:+0300
TZOFFSETTO:+0200
TZNAME:EET
DTSTART:20211031T010000
END:STANDARD
BEGIN:DAYLIGHT
TZOFFSETFROM:+0200
TZOFFSETTO:+0300
TZNAME:EEST
DTSTART:20220327T010000
END:DAYLIGHT
BEGIN:STANDARD
TZOFFSETFROM:+0300
TZOFFSETTO:+0200
TZNAME:EET
DTSTART:20221030T010000
END:STANDARD
BEGIN:DAYLIGHT
TZOFFSETFROM:+0200
TZOFFSETTO:+0300
TZNAME:EEST
DTSTART:20230326T010000
END:DAYLIGHT
BEGIN:STANDARD
TZOFFSETFROM:+0300
TZOFFSETTO:+0200
TZNAME:EET
DTSTART:20231029T010000
END:STANDARD
END:VTIMEZONE
BEGIN:VEVENT
DTSTART;VALUE=DATE:20220418
DTEND;VALUE=DATE:20220502
DTSTAMP:20260424T064711
CREATED:20220126T101817Z
LAST-MODIFIED:20250312T112759Z
UID:9111-1650240000-1651449599@www.felicitydtp.ro
SUMMARY:Drumeție de o zi pentru copii - vacanta de primavara
DESCRIPTION:Bună dragi părinți si copii! \nVă invit să le oferiți copiilor dvs ocazia de a petrece o zi sau mai multe în natură\, în parcul natural Bucegi si Padurea Comana.\nVom face o drumeție de 4-5 h și vom explora pădurea cu toate formele ei de viață. \nPlecarea va fi din Gara de Nord cu trenul si sosirea tot aici (detalii punctual) sau cu masina personala din Piata Unirii. \nDrumețiile se adresează copiilor 7-14 ani. \nGhid montan autorizat și însoțitor: Felicia Farcaș \nTransportul nu este inclus în preț. (vom lua biletele de tren din gara in ziua respectiva\, transportul cu masina va fi 30 lei/copil). \nEchipament necesar: \n\nbocanci de drumeție (nu adidași)\ngecuță de ploaie\nbuf sau căciuliță\nrucsac\nsandviș și ceva dulce\n1 l apă\nbani de buzunar pentru o clătită uriașă la sfârșitul drumeției (20 lei)\njocuri pe tren\n\nDatele drumetiilor sunt: \n18 aprilie – Parcul Natural Comana (masina 4 locuri) \n19 aprilie – Cascada Urlatoare – Bucegi – tren – 8 locuri \n21 aprilie – Parcul Natural Comana (masina 4 locuri) \n27 aprilie – Cascada Spumoasa – Bucegi – tren- 8 locuri \n28 aprilie – Parcul Natural Comana (masina 4 locuri) \n29 aprilie – Sinaia  – Castelul Pelisor si Muzeul Trenuletului (tren)- 8 locuri \n30 aprilie – Cota 2000 Bucegi si muzeul Trenuletului (tren)- 8 locuri \n1 mai – Parcul Natural Comana (masina 4 locuri) \nDetalii și înscriere pe email office@felicitydtp.ro sau 0726474717 \nExcursiile se organizeaza cu minim 4 copii. \nMă înscriu în Tabără! (click către pagina Contact) \n 
URL:https://www.felicitydtp.ro/curs/drumetie-de-o-zi-pentru-copii-vacanta-de-primavara/
CATEGORIES:Cursuri schi,Drumetii pentru copii,Drumeții pentru familii
ATTACH;FMTTYPE=image/jpeg:https://www.felicitydtp.ro/wp-content/uploads/2021/03/IMG_20210317_165118-scaled.jpg
ORGANIZER;CN="Felicia si Claudia":MAILTO:office@felicitydtp.ro
END:VEVENT
END:VCALENDAR