BEGIN:VCALENDAR
VERSION:2.0
PRODID:-//Felicitydtp | Drumetii si Cursuri de schi - ECPv6.15.20//NONSGML v1.0//EN
CALSCALE:GREGORIAN
METHOD:PUBLISH
X-ORIGINAL-URL:https://www.felicitydtp.ro
X-WR-CALDESC:Evenimente pentru Felicitydtp | Drumetii si Cursuri de schi
REFRESH-INTERVAL;VALUE=DURATION:PT1H
X-Robots-Tag:noindex
X-PUBLISHED-TTL:PT1H
BEGIN:VTIMEZONE
TZID:Europe/Helsinki
BEGIN:DAYLIGHT
TZOFFSETFROM:+0200
TZOFFSETTO:+0300
TZNAME:EEST
DTSTART:20180325T010000
END:DAYLIGHT
BEGIN:STANDARD
TZOFFSETFROM:+0300
TZOFFSETTO:+0200
TZNAME:EET
DTSTART:20181028T010000
END:STANDARD
BEGIN:DAYLIGHT
TZOFFSETFROM:+0200
TZOFFSETTO:+0300
TZNAME:EEST
DTSTART:20190331T010000
END:DAYLIGHT
BEGIN:STANDARD
TZOFFSETFROM:+0300
TZOFFSETTO:+0200
TZNAME:EET
DTSTART:20191027T010000
END:STANDARD
BEGIN:DAYLIGHT
TZOFFSETFROM:+0200
TZOFFSETTO:+0300
TZNAME:EEST
DTSTART:20200329T010000
END:DAYLIGHT
BEGIN:STANDARD
TZOFFSETFROM:+0300
TZOFFSETTO:+0200
TZNAME:EET
DTSTART:20201025T010000
END:STANDARD
END:VTIMEZONE
BEGIN:VEVENT
DTSTART;VALUE=DATE:20191124
DTEND;VALUE=DATE:20191125
DTSTAMP:20260426T040755
CREATED:20191028T144341Z
LAST-MODIFIED:20191029T080543Z
UID:7799-1574553600-1574639999@www.felicitydtp.ro
SUMMARY:Cabana Curmătura - Piatra Craiului
DESCRIPTION:Bună drumeților mari și mici! \nHaideți să vedeți Creasta Craiului mai de aproape. \nVă invit la o plimbare spre Cabana Curmătura. Drumetia va dura vreo 3\,5 h in urcare si coborarea va dura 2.5 h. \nVom urca pe cararea cea mai accesibila ca sa le fie mai usor copiilor. \nLa cabana putem servi o ciorba si o placinta\, marca inregistrata 🙂 \nDrumetia este pentru toată familia. \nEchipament necesar: bocanci\, gecuta de ploaie/vant\, rucsac copil si adult\, apa 1 l de persoana\, mancare/fructe. \nCosturi: \nContributia dumneavoastra este de 50 lei/familie. Se achita doar online in urma emiterii facturii. \nGhid montan: Felicia Farcaș \nPentru inscrieri va rog sa ma anuntati personal la telefon sau email.aaaa \nVa asteptam cu drag eu si Luca! \nInainte cu o saptamana va dau detaliile! \nNe vedem la deal! \n 
URL:https://www.felicitydtp.ro/curs/cabana-curmatura-piatra-craiului/
CATEGORIES:Drumeții pentru familii
ATTACH;FMTTYPE=image/jpeg:https://www.felicitydtp.ro/wp-content/uploads/2010/09/feli-3592.jpg
ORGANIZER;CN="Felicia si Claudia":MAILTO:office@felicitydtp.ro
END:VEVENT
END:VCALENDAR