BEGIN:VCALENDAR
VERSION:2.0
PRODID:-//Felicitydtp | Drumetii si Cursuri de schi - ECPv6.15.20//NONSGML v1.0//EN
CALSCALE:GREGORIAN
METHOD:PUBLISH
X-WR-CALNAME:Felicitydtp | Drumetii si Cursuri de schi
X-ORIGINAL-URL:https://www.felicitydtp.ro
X-WR-CALDESC:Evenimente pentru Felicitydtp | Drumetii si Cursuri de schi
REFRESH-INTERVAL;VALUE=DURATION:PT1H
X-Robots-Tag:noindex
X-PUBLISHED-TTL:PT1H
BEGIN:VTIMEZONE
TZID:Europe/Helsinki
BEGIN:DAYLIGHT
TZOFFSETFROM:+0200
TZOFFSETTO:+0300
TZNAME:EEST
DTSTART:20190331T010000
END:DAYLIGHT
BEGIN:STANDARD
TZOFFSETFROM:+0300
TZOFFSETTO:+0200
TZNAME:EET
DTSTART:20191027T010000
END:STANDARD
BEGIN:DAYLIGHT
TZOFFSETFROM:+0200
TZOFFSETTO:+0300
TZNAME:EEST
DTSTART:20200329T010000
END:DAYLIGHT
BEGIN:STANDARD
TZOFFSETFROM:+0300
TZOFFSETTO:+0200
TZNAME:EET
DTSTART:20201025T010000
END:STANDARD
BEGIN:DAYLIGHT
TZOFFSETFROM:+0200
TZOFFSETTO:+0300
TZNAME:EEST
DTSTART:20210328T010000
END:DAYLIGHT
BEGIN:STANDARD
TZOFFSETFROM:+0300
TZOFFSETTO:+0200
TZNAME:EET
DTSTART:20211031T010000
END:STANDARD
END:VTIMEZONE
BEGIN:VEVENT
DTSTART;VALUE=DATE:20200912
DTEND;VALUE=DATE:20200913
DTSTAMP:20260425T143359
CREATED:20191014T131843Z
LAST-MODIFIED:20200824T124952Z
UID:7777-1599868800-1599955199@www.felicitydtp.ro
SUMMARY:Un refugiu montan\, Colții Țapului și o Peștera
DESCRIPTION:Buna parintilor si copiilor iubitori de natura! \nPentru ca toamna inca e blanda\, vreau sa profitam de ocazie si sa exploram zone inalte ale muntelui. \n1893 m altitudine. \nDrumetia se adreseaza parintilor si copiilor mari si mici. Este un urcus usor si scurt\, fara dificultati. \nVa invit de data asta in Bucegi\, zona Padina unde vom afla si vedea cum arata un refugiu montan. Adica casa oamenilor care dorm pe munte in caz de urgenta sau a celor care fac ture mai grele si lungi si se adapostesc in refugiu. \nDe aici de sus vom vedea toata Tara Branului. \nUrcam vreo 1.5 h pana la refugiu si vom cobori intr-o ora. \nApoi vom merge in Pestera Ialomicioarei\, loc magic si energetic unde va propun sa ne punem dorintele sufletelor noastre. \nAcestea sunt locuri dragi sufletului meu si intentia mea este sa va duc si pe voi in aceste locuri magice\, cei deschisi… \nVom pleca de dimineata cu masinile personale din Bucuresti\, la ora 6.30 si vom ajunge la cabana Padina in jurul orei 9.\nCine nu are masina\, poate anunta si facem loc la ceilalti care au loc. Eu am 2 locuri libere\, primul venit\, primul servit. \nAici vom parca masinile: \nhttps://www.google.de/maps/dir/Bukarest\,+Rum%C3%A4nien/45.3831134\,25.4353938/@45.3799365\,25.4355959\,15.25z/data=!4m9!4m8!1m5!1m1!1s0x40b1f93abf3cad4f:0xac0632e37c9ca628!2m2!1d26.1025384!2d44.4267674!1m0!3e0 \nEchipament necesar: bocanci\, gecuta de ploaie/vant\, rucsac copil si adult\, apa 1 l de persoana\, mancare/fructe. \nGhid montan: Felicia Farcaș \nPentru inscrieri va rog sa ma anuntati personal la telefon sau email. \nVa asteptam cu drag eu si Luca! \nUn filmulet din zona refugiului \n\nRefugiul Saua Strunga \n\n 
URL:https://www.felicitydtp.ro/curs/un-refugiu-montan-si-o-pestera/
LOCATION:Padina\, România
CATEGORIES:Drumeții pentru familii
ATTACH;FMTTYPE=image/png:https://www.felicitydtp.ro/wp-content/uploads/2019/08/2019-08-06-16_04_06-Facebook.png
ORGANIZER;CN="Felicia si Claudia":MAILTO:office@felicitydtp.ro
END:VEVENT
END:VCALENDAR