BEGIN:VCALENDAR
VERSION:2.0
PRODID:-//Felicitydtp | Drumetii si Cursuri de schi - ECPv6.15.20//NONSGML v1.0//EN
CALSCALE:GREGORIAN
METHOD:PUBLISH
X-WR-CALNAME:Felicitydtp | Drumetii si Cursuri de schi
X-ORIGINAL-URL:https://www.felicitydtp.ro
X-WR-CALDESC:Evenimente pentru Felicitydtp | Drumetii si Cursuri de schi
REFRESH-INTERVAL;VALUE=DURATION:PT1H
X-Robots-Tag:noindex
X-PUBLISHED-TTL:PT1H
BEGIN:VTIMEZONE
TZID:Europe/Helsinki
BEGIN:DAYLIGHT
TZOFFSETFROM:+0200
TZOFFSETTO:+0300
TZNAME:EEST
DTSTART:20190331T010000
END:DAYLIGHT
BEGIN:STANDARD
TZOFFSETFROM:+0300
TZOFFSETTO:+0200
TZNAME:EET
DTSTART:20191027T010000
END:STANDARD
BEGIN:DAYLIGHT
TZOFFSETFROM:+0200
TZOFFSETTO:+0300
TZNAME:EEST
DTSTART:20200329T010000
END:DAYLIGHT
BEGIN:STANDARD
TZOFFSETFROM:+0300
TZOFFSETTO:+0200
TZNAME:EET
DTSTART:20201025T010000
END:STANDARD
BEGIN:DAYLIGHT
TZOFFSETFROM:+0200
TZOFFSETTO:+0300
TZNAME:EEST
DTSTART:20210328T010000
END:DAYLIGHT
BEGIN:STANDARD
TZOFFSETFROM:+0300
TZOFFSETTO:+0200
TZNAME:EET
DTSTART:20211031T010000
END:STANDARD
END:VTIMEZONE
BEGIN:VEVENT
DTSTART;VALUE=DATE:20200913
DTEND;VALUE=DATE:20200914
DTSTAMP:20260425T143359
CREATED:20200824T130241Z
LAST-MODIFIED:20200824T130241Z
UID:8016-1599955200-1600041599@www.felicitydtp.ro
SUMMARY:Refugiul Bătrâna și afinele
DESCRIPTION:Bună dragi iubitori de natură. Vă invit să urcăm pe o vale spectaculoasă spre refugiul Bătrâna\,  în Bucegi și să vedem peisajul de la 2000 m altitudine\, spre Crai și toate zările! \nTot aici\, vom gusta și afinele ursului 🙂 \nUrcarea va fi de vreo 2\,5 h pe Valea Doamnele și în funcție de cât stăm la afine\, coborâm pe același traseu sau pe altă vale. \nApă 1 l și mâncare e nevoie să aveți la voi. O gecuță de ploaie e binevenită oricând. \nNe vom întâlni la telecabina Peștera la ora 9\,00. \nMai multe detalii\, după înscriere. \nÎnscrierea se face pe email office@felicitydtp.ro \nGhid turistic şi montan – Felicia Farcaş \nVă aşteptăm cu mare bucurie! Anunțați și prietenii voștri de această drumeție! \nps. Respect absolut faţă de tot ce găsim în natură şi faţă de oamenii cu care călătorim!
URL:https://www.felicitydtp.ro/curs/refugiul-batrana-si-afinele/
LOCATION:telecabina pestera
CATEGORIES:Drumeții pentru familii
ATTACH;FMTTYPE=image/jpeg:https://www.felicitydtp.ro/wp-content/uploads/2019/07/IMG_20170930_090955.jpg
ORGANIZER;CN="Felicia si Claudia":MAILTO:office@felicitydtp.ro
END:VEVENT
END:VCALENDAR