BEGIN:VCALENDAR
VERSION:2.0
PRODID:-//Felicitydtp | Drumetii si Cursuri de schi - ECPv6.15.20//NONSGML v1.0//EN
CALSCALE:GREGORIAN
METHOD:PUBLISH
X-WR-CALNAME:Felicitydtp | Drumetii si Cursuri de schi
X-ORIGINAL-URL:https://www.felicitydtp.ro
X-WR-CALDESC:Evenimente pentru Felicitydtp | Drumetii si Cursuri de schi
REFRESH-INTERVAL;VALUE=DURATION:PT1H
X-Robots-Tag:noindex
X-PUBLISHED-TTL:PT1H
BEGIN:VTIMEZONE
TZID:Europe/Helsinki
BEGIN:DAYLIGHT
TZOFFSETFROM:+0200
TZOFFSETTO:+0300
TZNAME:EEST
DTSTART:20210328T010000
END:DAYLIGHT
BEGIN:STANDARD
TZOFFSETFROM:+0300
TZOFFSETTO:+0200
TZNAME:EET
DTSTART:20211031T010000
END:STANDARD
BEGIN:DAYLIGHT
TZOFFSETFROM:+0200
TZOFFSETTO:+0300
TZNAME:EEST
DTSTART:20220327T010000
END:DAYLIGHT
BEGIN:STANDARD
TZOFFSETFROM:+0300
TZOFFSETTO:+0200
TZNAME:EET
DTSTART:20221030T010000
END:STANDARD
BEGIN:DAYLIGHT
TZOFFSETFROM:+0200
TZOFFSETTO:+0300
TZNAME:EEST
DTSTART:20230326T010000
END:DAYLIGHT
BEGIN:STANDARD
TZOFFSETFROM:+0300
TZOFFSETTO:+0200
TZNAME:EET
DTSTART:20231029T010000
END:STANDARD
END:VTIMEZONE
BEGIN:VEVENT
DTSTART;VALUE=DATE:20220828
DTEND;VALUE=DATE:20220903
DTSTAMP:20260424T002014
CREATED:20211123T093008Z
LAST-MODIFIED:20250312T112836Z
UID:9066-1661644800-1662163199@www.felicitydtp.ro
SUMMARY:Tabără pentru copii la munte 2022
DESCRIPTION:Bine vă regăsesc dragi părinți și copii iubitori de natură!\nVă invit la munte în prima săptămână de vacanță. \nLocația:\nBușteni \nProgramul se adresează copiilor dvs cu vârste între 7-14 ani. \nDuminică îi aduceți pe copii  la ora 18.00 și îi preluați vineri la ora 13.00\, după masa de prânz. \n24 _ 29 iulie 2022 \nCopiii vor respira 5 zile aerul tare de munte din Bucegi. \n5 zile vor fi conectați cu natura și cu prietenii lor! \nVom face drumeții la cascade\, urcăm cu gondola la 2000\, vizităm castele și palate\, ne jucăm în Funpark\, intrăm în adâncurile pământului în peșteri.\nProgramul va fi adaptat în funcție de dorințele copiilor și condițiile meteo. \nPrețul taberei este 2370 lei și include: \n\nintrarea la obiectivele turistice\ngondola/telecabina\ntransportul la obiectivele turistice cu microbuz\, tren\, autobuz local\nintrarea în Funpark\ncazare 5 nopți\n3 mese / zi și fructe gustare\nasistență 24/24\nghid montan autorizat\nanimator centre de vacanță autorizat\n\nCine rezoneaza poate suna sau scrie un email ca să povestim mai mult \noffice@felicitydtp.ro \n0726474717 \nCoordonator tabără: Felicia Farcaș \nTabara se face cu minim 10 copii. \nMă înscriu în Tabără! (click către pagina Contact) \n  \nCum a fost în tabăra trecută? Află de aici \n\nCuvintele drumeților
URL:https://www.felicitydtp.ro/curs/tabara-pentru-copii-la-munte-2022/
LOCATION:Bușteni\, Partia Kalinderu\, Strada Matei Basarab 28\, Bușteni\, Prahova\, 105500\, România
CATEGORIES:Drumetii pentru copii,Drumeții pentru familii
ATTACH;FMTTYPE=image/jpeg:https://www.felicitydtp.ro/wp-content/uploads/2021/03/Luca-saritor.jpg
ORGANIZER;CN="Felicia":MAILTO:office@felicitydtp.ro
END:VEVENT
END:VCALENDAR