BEGIN:VCALENDAR
VERSION:2.0
PRODID:-//Felicitydtp | Drumetii si Cursuri de schi - ECPv6.15.20//NONSGML v1.0//EN
CALSCALE:GREGORIAN
METHOD:PUBLISH
X-ORIGINAL-URL:https://www.felicitydtp.ro
X-WR-CALDESC:Evenimente pentru Felicitydtp | Drumetii si Cursuri de schi
REFRESH-INTERVAL;VALUE=DURATION:PT1H
X-Robots-Tag:noindex
X-PUBLISHED-TTL:PT1H
BEGIN:VTIMEZONE
TZID:Europe/Helsinki
BEGIN:DAYLIGHT
TZOFFSETFROM:+0200
TZOFFSETTO:+0300
TZNAME:EEST
DTSTART:20210328T010000
END:DAYLIGHT
BEGIN:STANDARD
TZOFFSETFROM:+0300
TZOFFSETTO:+0200
TZNAME:EET
DTSTART:20211031T010000
END:STANDARD
BEGIN:DAYLIGHT
TZOFFSETFROM:+0200
TZOFFSETTO:+0300
TZNAME:EEST
DTSTART:20220327T010000
END:DAYLIGHT
BEGIN:STANDARD
TZOFFSETFROM:+0300
TZOFFSETTO:+0200
TZNAME:EET
DTSTART:20221030T010000
END:STANDARD
BEGIN:DAYLIGHT
TZOFFSETFROM:+0200
TZOFFSETTO:+0300
TZNAME:EEST
DTSTART:20230326T010000
END:DAYLIGHT
BEGIN:STANDARD
TZOFFSETFROM:+0300
TZOFFSETTO:+0200
TZNAME:EET
DTSTART:20231029T010000
END:STANDARD
END:VTIMEZONE
BEGIN:VEVENT
DTSTART;VALUE=DATE:20220903
DTEND;VALUE=DATE:20220904
DTSTAMP:20260424T004332
CREATED:20201009T064111Z
LAST-MODIFIED:20250312T113122Z
UID:7985-1662163200-1662249599@www.felicitydtp.ro
SUMMARY:O plimbare de poveste: Cheile Zănoagei si Cascada 7 Izvoare
DESCRIPTION:Bună dragi iubitori de natură! Vă invit în Bucegi să parcurgem cursul de apă al râului Zănoaga: Cheile Zănoagei și 7 Izvoare! \nAcest râu a săpat în stâncă ca un mare maestru. \nOricât aș descrie frumusețea acestui traseu\, nu pot povesti realitatea. Cascada 7 Izvoare are cea mai pura apa si e super spectaculoasa! \nO purificare e binevenita intotdeauna! \nCine simte chemarea să vina\, invitatia este facuta cu bucurie! \nTraseul se pretează și pentru copiii mai mici sau purtați în rucsac. Ne vom plimba toată ziua pe acest traseu dus-întors și copiii vor descoperi fiecare piatră de pe râu 🙂 \nDificultatea traseul este foarte ușoară. Normal se fac 2 h dus si 2 h întors. Noi vom merge într-un ritm super lejer! \nGhid turistic şi montan – Felicia Farcaş \nPretul pentru o familie sau pentru o persoana adult este 120 lei. \nEchipament necesar: \n\nbocanci\npelerină de ploaie\nrucsac 25l\n0\,5 l apă/persoană (vom lua apa de la izvor)\nronțăieli\n\nNe vedem la deal! \nDrumetia se organizeaza cu minim 5 platitori. \nMă înscriu în Tabără! (click către pagina Contact) \n  \nps. Respect absolut faţă de tot ce găsim în natură şi faţă de oamenii cu care călătorim!
URL:https://www.felicitydtp.ro/curs/o-plimbare-de-poveste-cheile-zanoagei-si-cascada-7-izvoare/
LOCATION:Camping Zănoaga
CATEGORIES:Drumetii pentru copii,Drumeții pentru familii,Tabara adulti,Treking Dating Time
ATTACH;FMTTYPE=image/jpeg:https://www.felicitydtp.ro/wp-content/uploads/2020/07/Cheile-Zanoagei.jpg
ORGANIZER;CN="Felicia si Claudia":MAILTO:office@felicitydtp.ro
END:VEVENT
END:VCALENDAR