BEGIN:VCALENDAR
VERSION:2.0
PRODID:-//Felicitydtp | Drumetii si Cursuri de schi - ECPv6.15.20//NONSGML v1.0//EN
CALSCALE:GREGORIAN
METHOD:PUBLISH
X-WR-CALNAME:Felicitydtp | Drumetii si Cursuri de schi
X-ORIGINAL-URL:https://www.felicitydtp.ro
X-WR-CALDESC:Evenimente pentru Felicitydtp | Drumetii si Cursuri de schi
REFRESH-INTERVAL;VALUE=DURATION:PT1H
X-Robots-Tag:noindex
X-PUBLISHED-TTL:PT1H
BEGIN:VTIMEZONE
TZID:Europe/Helsinki
BEGIN:DAYLIGHT
TZOFFSETFROM:+0200
TZOFFSETTO:+0300
TZNAME:EEST
DTSTART:20200329T010000
END:DAYLIGHT
BEGIN:STANDARD
TZOFFSETFROM:+0300
TZOFFSETTO:+0200
TZNAME:EET
DTSTART:20201025T010000
END:STANDARD
BEGIN:DAYLIGHT
TZOFFSETFROM:+0200
TZOFFSETTO:+0300
TZNAME:EEST
DTSTART:20210328T010000
END:DAYLIGHT
BEGIN:STANDARD
TZOFFSETFROM:+0300
TZOFFSETTO:+0200
TZNAME:EET
DTSTART:20211031T010000
END:STANDARD
BEGIN:DAYLIGHT
TZOFFSETFROM:+0200
TZOFFSETTO:+0300
TZNAME:EEST
DTSTART:20220327T010000
END:DAYLIGHT
BEGIN:STANDARD
TZOFFSETFROM:+0300
TZOFFSETTO:+0200
TZNAME:EET
DTSTART:20221030T010000
END:STANDARD
END:VTIMEZONE
BEGIN:VEVENT
DTSTART;VALUE=DATE:20210522
DTEND;VALUE=DATE:20210524
DTSTAMP:20260424T205356
CREATED:20210329T155807Z
LAST-MODIFIED:20250312T113050Z
UID:8428-1621641600-1621814399@www.felicitydtp.ro
SUMMARY:Trekking and dating - Cabana Gârbova
DESCRIPTION:Vă invit în munții Baiului pentru 2 zile de socializare\, voie bună și noi prieteni. \nSunt invitate persoanele single! \nVom face 2 zile de trekking în zone spectaculoase din munții Baiului. Trasee ușoare\, adresate tuturor cu sau fără condiție fizică. Vom admira tot lanțul muntos al Bucegiului. \nVom dormi la cabană\, la altitudine într-un peisaj de vis. De mesele pregătite de bucătarul iscusit nu mai pomenesc 🙂 \nhttp://www.cabanagirbova.ro/ \n2 zile de socializare\, timp bun pentru o cunoaștere reciporcă! \nPrețul include ghid și cazare cu mic dejun. \nVă aștept cu bucurie! \nMă înscriu în Tabără! (click către pagina Contact)
URL:https://www.felicitydtp.ro/curs/trekking-and-dating-cabana-garbova/
CATEGORIES:Treking Dating Time
ATTACH;FMTTYPE=image/jpeg:https://www.felicitydtp.ro/wp-content/uploads/2020/02/Cabana-Postavaru.jpg
ORGANIZER;CN="Felicia si Claudia":MAILTO:office@felicitydtp.ro
END:VEVENT
BEGIN:VEVENT
DTSTART;VALUE=DATE:20210529
DTEND;VALUE=DATE:20210530
DTSTAMP:20260424T205356
CREATED:20210521T131553Z
LAST-MODIFIED:20210521T131832Z
UID:8866-1622246400-1622332799@www.felicitydtp.ro
SUMMARY:Cascada Ialomiței și Peștera
DESCRIPTION:Bună! \nVă invit la un spectacol fabulos de apă! Vom urca spre cascada Ialomița care are un debit fantastic în această perioadă! \nUrcarea până la cascadă este de vreo 2 h\, coborârea 1 h. \nȘi apoi vom intra în Peștera cu același nume. Aici întâlnim aceeași apă din cascacadă\, doar că în subteran! \nE o zona încărcată cu multă energie benefică pentru ființa noastră! \nCine rezonează invit să se înscrie. \n\n						\n						\n 
URL:https://www.felicitydtp.ro/curs/cascada-ialomitei-si-pestera/
LOCATION:Pestera
CATEGORIES:Treking Dating Time
ATTACH;FMTTYPE=image/png:https://www.felicitydtp.ro/wp-content/uploads/2021/05/cascada.png
ORGANIZER;CN="Felicia si Claudia":MAILTO:office@felicitydtp.ro
END:VEVENT
BEGIN:VEVENT
DTSTART;VALUE=DATE:20210530
DTEND;VALUE=DATE:20210531
DTSTAMP:20260424T205356
CREATED:20210521T132543Z
LAST-MODIFIED:20250312T112938Z
UID:8872-1622332800-1622419199@www.felicitydtp.ro
SUMMARY:7 Scări
DESCRIPTION:Bună iubitori de natură! Vă invit în Piatra Mare\, 7 scări! \nPoate ajungem și la cabana cu același nume 🙂 \nVom urca din Dâmbu Morii și parcurgem canionul care este un spectacol al apei! \nVă recomand să aveți pelerine de ploaie la voi sau gecuțe\, ne vom stropi de-a binelea! \nSunt invitați și copiii\, nu numai adulții! Prețul pentru familii este de 210 lei. \nMă înscriu în Tabără! (click către pagina Contact) \n 
URL:https://www.felicitydtp.ro/curs/7-scari/
CATEGORIES:Drumetii pentru copii,Drumeții pentru familii,Treking Dating Time
ATTACH;FMTTYPE=image/jpeg:https://www.felicitydtp.ro/wp-content/uploads/2019/07/7-sccari.jpg
ORGANIZER;CN="Felicia si Claudia":MAILTO:office@felicitydtp.ro
END:VEVENT
END:VCALENDAR