BEGIN:VCALENDAR
VERSION:2.0
PRODID:-//Felicitydtp | Drumetii si Cursuri de schi - ECPv6.15.20//NONSGML v1.0//EN
CALSCALE:GREGORIAN
METHOD:PUBLISH
X-ORIGINAL-URL:https://www.felicitydtp.ro
X-WR-CALDESC:Evenimente pentru Felicitydtp | Drumetii si Cursuri de schi
REFRESH-INTERVAL;VALUE=DURATION:PT1H
X-Robots-Tag:noindex
X-PUBLISHED-TTL:PT1H
BEGIN:VTIMEZONE
TZID:Europe/Helsinki
BEGIN:DAYLIGHT
TZOFFSETFROM:+0200
TZOFFSETTO:+0300
TZNAME:EEST
DTSTART:20200329T010000
END:DAYLIGHT
BEGIN:STANDARD
TZOFFSETFROM:+0300
TZOFFSETTO:+0200
TZNAME:EET
DTSTART:20201025T010000
END:STANDARD
BEGIN:DAYLIGHT
TZOFFSETFROM:+0200
TZOFFSETTO:+0300
TZNAME:EEST
DTSTART:20210328T010000
END:DAYLIGHT
BEGIN:STANDARD
TZOFFSETFROM:+0300
TZOFFSETTO:+0200
TZNAME:EET
DTSTART:20211031T010000
END:STANDARD
BEGIN:DAYLIGHT
TZOFFSETFROM:+0200
TZOFFSETTO:+0300
TZNAME:EEST
DTSTART:20220327T010000
END:DAYLIGHT
BEGIN:STANDARD
TZOFFSETFROM:+0300
TZOFFSETTO:+0200
TZNAME:EET
DTSTART:20221030T010000
END:STANDARD
END:VTIMEZONE
BEGIN:VEVENT
DTSTART;VALUE=DATE:20210702
DTEND;VALUE=DATE:20210705
DTSTAMP:20260424T193457
CREATED:20210428T143152Z
LAST-MODIFIED:20210521T125411Z
UID:8644-1625184000-1625443199@www.felicitydtp.ro
SUMMARY:Vârful Moldoveanu
DESCRIPTION:Bună dragi iubitori de natură! Moldoveanu vă sună cunoscut? \nVă place să fiți la înălțime? \nVă doriți să fiți pe vârful cel mai înalt din țara noastră? \nSună minunat așa-i? \nHai să încerci experiența vieții tale! Acolo sus simți că zbori și parcă toată lumea e a ta! Te simți invincibil! \nVă propun un traseu minunat\, până în vârf de tot\, sus sus la 2544 m! \nPoate vă întrebați dacă voi puteți? Vă spun sigur\, totul se poate! Doar să vrei! \nMai multe cuvinte… vorbim în vârf! \nPlecarea e vineri seara\, după job! Întoarcerea duminică seara. Dormim la o pensiune aproape de munte\, 2 nopți. \nDuminică am un program surpriză\, pentru cine mai poate 🙂 \nPrețul nu inclue cazarea\, masa și transportul. Cazarea va fi in jur de 200 lei 2 nopti. \nDetalii după înscriere! \n\n						\n						\n 
URL:https://www.felicitydtp.ro/curs/varful-moldoveanu/
CATEGORIES:Treking Dating Time
ATTACH;FMTTYPE=image/jpeg:https://www.felicitydtp.ro/wp-content/uploads/2021/04/DSC02345-scaled.jpg
ORGANIZER;CN="Felicia si Claudia":MAILTO:office@felicitydtp.ro
END:VEVENT
END:VCALENDAR