BEGIN:VCALENDAR
VERSION:2.0
PRODID:-//Felicitydtp | Drumetii si Cursuri de schi - ECPv6.15.20//NONSGML v1.0//EN
CALSCALE:GREGORIAN
METHOD:PUBLISH
X-ORIGINAL-URL:https://www.felicitydtp.ro
X-WR-CALDESC:Evenimente pentru Felicitydtp | Drumetii si Cursuri de schi
REFRESH-INTERVAL;VALUE=DURATION:PT1H
X-Robots-Tag:noindex
X-PUBLISHED-TTL:PT1H
BEGIN:VTIMEZONE
TZID:Europe/Helsinki
BEGIN:DAYLIGHT
TZOFFSETFROM:+0200
TZOFFSETTO:+0300
TZNAME:EEST
DTSTART:20200329T010000
END:DAYLIGHT
BEGIN:STANDARD
TZOFFSETFROM:+0300
TZOFFSETTO:+0200
TZNAME:EET
DTSTART:20201025T010000
END:STANDARD
BEGIN:DAYLIGHT
TZOFFSETFROM:+0200
TZOFFSETTO:+0300
TZNAME:EEST
DTSTART:20210328T010000
END:DAYLIGHT
BEGIN:STANDARD
TZOFFSETFROM:+0300
TZOFFSETTO:+0200
TZNAME:EET
DTSTART:20211031T010000
END:STANDARD
BEGIN:DAYLIGHT
TZOFFSETFROM:+0200
TZOFFSETTO:+0300
TZNAME:EEST
DTSTART:20220327T010000
END:DAYLIGHT
BEGIN:STANDARD
TZOFFSETFROM:+0300
TZOFFSETTO:+0200
TZNAME:EET
DTSTART:20221030T010000
END:STANDARD
END:VTIMEZONE
BEGIN:VEVENT
DTSTART;VALUE=DATE:20210806
DTEND;VALUE=DATE:20210809
DTSTAMP:20260424T181855
CREATED:20210428T152704Z
LAST-MODIFIED:20210521T123715Z
UID:8661-1628208000-1628467199@www.felicitydtp.ro
SUMMARY:Ceahlău
DESCRIPTION:Bună iubitori de natură! Ceahlăul este muntele meu de suflet! \nOcazie unică\, ajung doar cei care tre sa ajungă aici! \nVă invit într-un loc cu totul special! Pe o potecă super faină! Știți de ce? Floarea de colț! Aha\, vedem flori de colț la tot pasul! Multe multe! Parcurgem o cărare delicată\, la baza unor stânci înalte până la cer! Ne vom simți ca în Rai aici și ne vom încărca de energie pentru multă vreme! \nSă vă pomenesc de afine? Zmeură? Le gustăm puțin și noi\, restul le lăsăm animalelor! \nApus de pe Toaca! Sau răsărit? Ce preferi? \nDe mare de nori ați auzit? Aici este aproape zilnic fenomenul! \nHaideți să simți pe propria piele ce înseamnă natură virgină! \nInvit persoane adulte la această drumeție! \nDa\, e cam departe… de aia plecăm de vineri după amiază\, ca să fim la baza muntelui sâmbătă dimineață! \nDormim la pensiune. Mergem cu mașinile proprii (ne organizăm). \nPrețul nu include masa\, cazare\, transport. (Cazarea va fi in jur de 200 lei 2 nopti) \nDupă înscriere vă dau detaliile! \n\n						\n						\n 
URL:https://www.felicitydtp.ro/curs/ceahlau/
CATEGORIES:Treking Dating Time
ATTACH;FMTTYPE=image/jpeg:https://www.felicitydtp.ro/wp-content/uploads/2021/03/cu-prietenii-scaled.jpg
ORGANIZER;CN="Felicia si Claudia":MAILTO:office@felicitydtp.ro
END:VEVENT
END:VCALENDAR