BEGIN:VCALENDAR
VERSION:2.0
PRODID:-//Felicitydtp | Drumetii si Cursuri de schi - ECPv6.15.20//NONSGML v1.0//EN
CALSCALE:GREGORIAN
METHOD:PUBLISH
X-ORIGINAL-URL:https://www.felicitydtp.ro
X-WR-CALDESC:Evenimente pentru Felicitydtp | Drumetii si Cursuri de schi
REFRESH-INTERVAL;VALUE=DURATION:PT1H
X-Robots-Tag:noindex
X-PUBLISHED-TTL:PT1H
BEGIN:VTIMEZONE
TZID:Europe/Helsinki
BEGIN:DAYLIGHT
TZOFFSETFROM:+0200
TZOFFSETTO:+0300
TZNAME:EEST
DTSTART:20200329T010000
END:DAYLIGHT
BEGIN:STANDARD
TZOFFSETFROM:+0300
TZOFFSETTO:+0200
TZNAME:EET
DTSTART:20201025T010000
END:STANDARD
BEGIN:DAYLIGHT
TZOFFSETFROM:+0200
TZOFFSETTO:+0300
TZNAME:EEST
DTSTART:20210328T010000
END:DAYLIGHT
BEGIN:STANDARD
TZOFFSETFROM:+0300
TZOFFSETTO:+0200
TZNAME:EET
DTSTART:20211031T010000
END:STANDARD
BEGIN:DAYLIGHT
TZOFFSETFROM:+0200
TZOFFSETTO:+0300
TZNAME:EEST
DTSTART:20220327T010000
END:DAYLIGHT
BEGIN:STANDARD
TZOFFSETFROM:+0300
TZOFFSETTO:+0200
TZNAME:EET
DTSTART:20221030T010000
END:STANDARD
END:VTIMEZONE
BEGIN:VEVENT
DTSTART;VALUE=DATE:20210828
DTEND;VALUE=DATE:20210830
DTSTAMP:20260424T181855
CREATED:20210514T153306Z
LAST-MODIFIED:20210809T083558Z
UID:8784-1630108800-1630281599@www.felicitydtp.ro
SUMMARY:Un apus peste Crai și un răsărit... poate-i Bai
DESCRIPTION:Bună dragi iubitori de natură! Un eveniment pentru adulți si copii în Bucegi! Refugiul Bătrâna este destinația! \nVă invit să trăiți o experiență unică: \n\nDormim la 2000 m\nVedem apusul spre munții Piatra Craiului\nNe trezim la răsărit să vedem soarele cum iese dinspre munții Baiului\nGustăm afinele ursului\nBem cafeaua cu view 360 grade\nȘi toate astea într-o companie aleasă\n\nDetalii traseu: \nVom urca aproximativ 3 h pana la refugiu. Coborarea dureaza 2 h. Va fi circuit. Traseul se preteaza si pt copii de la 5 ani. \nPoteca este de dificultate medie\, adica va fi urcare aprox 500m altitudine\, dar este usoara pe drumul Granicerilor (nemarcat). \nLa întoarcere putem vizita Peștera Ialomicioarei dacă este timp. \nEchipament necesar: \n\npantalon treking\, bocanci/adidas trail\, polar\, geaca de ploaie\, bandana\, un trening pantalon pt dormit.\n3-4 l l de apa (nu avem apa la refugiu)\nmancare usoara neperisabila (carnat uscat\, fructe confiate\, ceva hranitor adica)\ncana pt cafea/ceai (cafeaua din partea casei. Ceaiul va fi din afinele culese sau din frunza lor)\nsac de dormit confort 0 grade\nizopren/salteluta\nciorapi si tricou de schimb\nfrontala\nrucsac 40 l\npentru alte nelamuriri de echipament\, ma puteti contacta\n\nDetalii transport: cu mașinile personale. Cine nu are\, ne intalnim in gara Sinaia sambata si ne impartim pe masini. \nNe vom intalni in gara Sinaia\, ora 9\,00. Vom merge impreuna spre Hotel Pestera si telecabina\, ca sa nu ne ratacim  unii de altii\, nu prea este semnal in zona. \nNr de persoane: minim 5 familii / adulti \nDe ce să faci experiența asta? \n\nPentru că merită să fii sus la 2000 noaptea la apus și dimineața la răsărit\nPentru că te vei simți în Paradis\nPentru că muntele ne răsplătește efortul însutit cu priveliști uimitoare (toată Țara Branului va fi la picioarele noastre). Craiul cu a lui creastă va fi la nivelul nasului nostru. Cine vrea\, putem ajunge și la Omu (dus întors 4 h).\nPentru a gusta o afină dulce dulce\nPentru socializare\, muntele leagă prietenii pe viață\nPentru că nu vei uita tu sau copilul tău această experiență unică\nPentru că meriți și tu să fii la înălțime\n\nCine rezonează să trăiască toatea astea\, să-mi dea de veste completând formularul:
URL:https://www.felicitydtp.ro/curs/un-apus-peste-crai-si-un-rasarit-poate-i-bai/
CATEGORIES:Drumeții pentru familii,Treking Dating Time
ATTACH;FMTTYPE=image/jpeg:https://www.felicitydtp.ro/wp-content/uploads/2010/09/rasarit-acasa.jpg
ORGANIZER;CN="Felicia si Claudia":MAILTO:office@felicitydtp.ro
END:VEVENT
END:VCALENDAR