BEGIN:VCALENDAR
VERSION:2.0
PRODID:-//Felicitydtp | Drumetii si Cursuri de schi - ECPv6.15.20//NONSGML v1.0//EN
CALSCALE:GREGORIAN
METHOD:PUBLISH
X-WR-CALNAME:Felicitydtp | Drumetii si Cursuri de schi
X-ORIGINAL-URL:https://www.felicitydtp.ro
X-WR-CALDESC:Evenimente pentru Felicitydtp | Drumetii si Cursuri de schi
REFRESH-INTERVAL;VALUE=DURATION:PT1H
X-Robots-Tag:noindex
X-PUBLISHED-TTL:PT1H
BEGIN:VTIMEZONE
TZID:Europe/Helsinki
BEGIN:DAYLIGHT
TZOFFSETFROM:+0200
TZOFFSETTO:+0300
TZNAME:EEST
DTSTART:20200329T010000
END:DAYLIGHT
BEGIN:STANDARD
TZOFFSETFROM:+0300
TZOFFSETTO:+0200
TZNAME:EET
DTSTART:20201025T010000
END:STANDARD
BEGIN:DAYLIGHT
TZOFFSETFROM:+0200
TZOFFSETTO:+0300
TZNAME:EEST
DTSTART:20210328T010000
END:DAYLIGHT
BEGIN:STANDARD
TZOFFSETFROM:+0300
TZOFFSETTO:+0200
TZNAME:EET
DTSTART:20211031T010000
END:STANDARD
BEGIN:DAYLIGHT
TZOFFSETFROM:+0200
TZOFFSETTO:+0300
TZNAME:EEST
DTSTART:20220327T010000
END:DAYLIGHT
BEGIN:STANDARD
TZOFFSETFROM:+0300
TZOFFSETTO:+0200
TZNAME:EET
DTSTART:20221030T010000
END:STANDARD
END:VTIMEZONE
BEGIN:VEVENT
DTSTART;VALUE=DATE:20210925
DTEND;VALUE=DATE:20210926
DTSTAMP:20260424T164833
CREATED:20190701T110512Z
LAST-MODIFIED:20250312T113130Z
UID:7246-1632528000-1632614399@www.felicitydtp.ro
SUMMARY:Vârful Omu
DESCRIPTION:Haideți să urcăm pe Vârful Omu – Bucegi! \nDrumeția este pentru toată familia\, părinți și copii obișnuiți cu drumeția. \nUrcăm din apropiere de Piatra Arsă vreo 3 h\, trecem pe la Sfinx\, Babe\, Cerdac\, Releul Coștila\, Crucea Caraiman… nume care o să-ți devină familiare. Tot vreo 3 h facem și la coborâre. Vom admira și Colții Morarului\, formațiuni stâncoase pe care se cațără alpiniștii. \nTraseul este ușor\, vom avea doar două urcări mai accentuate de vreo jumătate de oră fiecare. \nPretul pe familie este 210 lei. \nEchipament necesar: \n\nrucsac\, inclusiv pentru copiii\nbocanci/adidași de treking\ngecuță de vânt\npolar\nbandană/căciulă\n2 l de apă de fiecare persoană\nmâncare/fructe uscate – nu ciocolată\npantaloni lungi și tricou sau bluză cu mânecă lungă\nlanternă\ntrusă medicală cu ce aveți nevoie personal\n\nÎntâlnirea va fi în Sinaia\, după ce facem stânga pe drumul spre Târgoviște. Ora intalnirii va fi 8\,15. \nDin Sinaia am 3 locuri libere în mașină. Putem închiria microbuz din Sinaia. \nGhid montan autorizat: Felicia Farcaș \nVă așteptăm cu bucurie alături de noi! \nNe vedem la deal! \nDrumetia se organizeaza cu minim 5 platitori. \nMă înscriu în Tabără! (click către pagina Contact) \n 
URL:https://www.felicitydtp.ro/curs/varful-omu/
LOCATION:Piatra Arsa
CATEGORIES:Drumetii pentru copii,Drumeții pentru familii,Treking Dating Time
ATTACH;FMTTYPE=image/jpeg:https://www.felicitydtp.ro/wp-content/uploads/2011/03/IMG_0090.jpg
ORGANIZER;CN="Felicia si Claudia":MAILTO:office@felicitydtp.ro
END:VEVENT
END:VCALENDAR