BEGIN:VCALENDAR
VERSION:2.0
PRODID:-//Felicitydtp | Drumetii si Cursuri de schi - ECPv6.15.20//NONSGML v1.0//EN
CALSCALE:GREGORIAN
METHOD:PUBLISH
X-WR-CALNAME:Felicitydtp | Drumetii si Cursuri de schi
X-ORIGINAL-URL:https://www.felicitydtp.ro
X-WR-CALDESC:Evenimente pentru Felicitydtp | Drumetii si Cursuri de schi
REFRESH-INTERVAL;VALUE=DURATION:PT1H
X-Robots-Tag:noindex
X-PUBLISHED-TTL:PT1H
BEGIN:VTIMEZONE
TZID:Europe/Helsinki
BEGIN:DAYLIGHT
TZOFFSETFROM:+0200
TZOFFSETTO:+0300
TZNAME:EEST
DTSTART:20200329T010000
END:DAYLIGHT
BEGIN:STANDARD
TZOFFSETFROM:+0300
TZOFFSETTO:+0200
TZNAME:EET
DTSTART:20201025T010000
END:STANDARD
BEGIN:DAYLIGHT
TZOFFSETFROM:+0200
TZOFFSETTO:+0300
TZNAME:EEST
DTSTART:20210328T010000
END:DAYLIGHT
BEGIN:STANDARD
TZOFFSETFROM:+0300
TZOFFSETTO:+0200
TZNAME:EET
DTSTART:20211031T010000
END:STANDARD
BEGIN:DAYLIGHT
TZOFFSETFROM:+0200
TZOFFSETTO:+0300
TZNAME:EEST
DTSTART:20220327T010000
END:DAYLIGHT
BEGIN:STANDARD
TZOFFSETFROM:+0300
TZOFFSETTO:+0200
TZNAME:EET
DTSTART:20221030T010000
END:STANDARD
END:VTIMEZONE
BEGIN:VEVENT
DTSTART;VALUE=DATE:20210410
DTEND;VALUE=DATE:20210411
DTSTAMP:20260424T091300
CREATED:20210405T131618Z
LAST-MODIFIED:20210405T130649Z
UID:8186-1618012800-1618099199@www.felicitydtp.ro
SUMMARY:Drumeţie montană pentru familii - Ghiocei şi brânduşe
DESCRIPTION:Bună dragi drumeţi mari şi mici. Vă invit la o drumeţie montană în Piatra Craiului pentru a descoperi mirosul şi frumuseţea covorului de flori de primăvară. \nVom merge în Poiana Zănoaga\, vreo 2 h de urcat în ritm super lejer. \nDrumeţia montană este adresată familiilor cu copii de la 7 ani în sus. \nAici în poiană vom lua masa\, vom admira toată creasta Craiului în toată splendoarea ei şi vom lua amintirile acestor flori superbe! \nGhid montan autorizat Felicia Farcaş. \nÎnscrierile se fac pe email sau telefon office@felicitydtp.ro\, 0726474717. \nPlata se face în avans doar online în urma facturii emise. \nDetaliile le veţi primi după înscriere. \nHaideţi să ne bucurăm împreună de aer curat şi multă delicatese a florilor!
URL:https://www.felicitydtp.ro/curs/drumetie-montana-pentru-familii-ghiocei-si-branduse/
CATEGORIES:Drumeții pentru familii
ATTACH;FMTTYPE=image/png:https://www.felicitydtp.ro/wp-content/uploads/2021/03/IMG_20210315_170548.png
ORGANIZER;CN="Felicia si Claudia":MAILTO:office@felicitydtp.ro
END:VEVENT
END:VCALENDAR