BEGIN:VCALENDAR
VERSION:2.0
PRODID:-//Felicitydtp | Drumetii si Cursuri de schi - ECPv6.15.20//NONSGML v1.0//EN
CALSCALE:GREGORIAN
METHOD:PUBLISH
X-ORIGINAL-URL:https://www.felicitydtp.ro
X-WR-CALDESC:Evenimente pentru Felicitydtp | Drumetii si Cursuri de schi
REFRESH-INTERVAL;VALUE=DURATION:PT1H
X-Robots-Tag:noindex
X-PUBLISHED-TTL:PT1H
BEGIN:VTIMEZONE
TZID:Europe/Helsinki
BEGIN:DAYLIGHT
TZOFFSETFROM:+0200
TZOFFSETTO:+0300
TZNAME:EEST
DTSTART:20180325T010000
END:DAYLIGHT
BEGIN:STANDARD
TZOFFSETFROM:+0300
TZOFFSETTO:+0200
TZNAME:EET
DTSTART:20181028T010000
END:STANDARD
BEGIN:DAYLIGHT
TZOFFSETFROM:+0200
TZOFFSETTO:+0300
TZNAME:EEST
DTSTART:20190331T010000
END:DAYLIGHT
BEGIN:STANDARD
TZOFFSETFROM:+0300
TZOFFSETTO:+0200
TZNAME:EET
DTSTART:20191027T010000
END:STANDARD
BEGIN:DAYLIGHT
TZOFFSETFROM:+0200
TZOFFSETTO:+0300
TZNAME:EEST
DTSTART:20200329T010000
END:DAYLIGHT
BEGIN:STANDARD
TZOFFSETFROM:+0300
TZOFFSETTO:+0200
TZNAME:EET
DTSTART:20201025T010000
END:STANDARD
END:VTIMEZONE
BEGIN:VEVENT
DTSTART;VALUE=DATE:20190202
DTEND;VALUE=DATE:20190211
DTSTAMP:20260424T174215
CREATED:20180913T132328Z
LAST-MODIFIED:20180926T113842Z
UID:6508-1549065600-1549843199@www.felicitydtp.ro
SUMMARY:Cursuri de schi alpin in vacanta 2-10 februarie 2019
DESCRIPTION:Invitatie la cursuri de schi alpin in vacanta! \nLocatia: partia Kalinderu\, Busteni. \nAnul acesta vă propun o formulă nouă de cursuri de schi\, o metodă mult mai eficientă de învățare! În 8 ani mi-am perfecționat tehnica predării într-un mod mult mai eficient pentru voi. \nCursul se adresează întregii familii\, atât copiilor (peste 6 ani) și adulților. Cu cei mai mici de 6 ani\, voi lucra individual (minim 3 ani). \nGrupele vor fi de începători și de intermediari\, cu program diferit. \nPentru a învăța aveți nevoie doar de VOINȚĂ\, efort MINIM fizic și financiar  în: \n1. 3 zile de vacanță \n2. 2 h/zi în 2 sesiuni (1 h dimineața și 1 h după amiază) \nGARANȚIE! Cine nu învață\, primește banii înapoi! \nInstructor de schi – Felicia Farcaș \nDetalii aici \nInscrie-te acum!
URL:https://www.felicitydtp.ro/curs/cursuri-de-schi-pentru-copii-si-adulti-la-busteni-3-zile-6-h-2-h-in-fiecare-zi/
CATEGORIES:Cursuri schi
ATTACH;FMTTYPE=image/jpeg:https://www.felicitydtp.ro/wp-content/uploads/2017/10/Cursuri-schi-cursuri-ski-instructor-schi-schi-instructor-copii-schi-copii-felicitydtp-83.jpg
ORGANIZER;CN="Felicia si Claudia":MAILTO:office@felicitydtp.ro
END:VEVENT
END:VCALENDAR