BEGIN:VCALENDAR
VERSION:2.0
PRODID:-//Felicitydtp | Drumetii si Cursuri de schi - ECPv6.8.2.1//NONSGML v1.0//EN
CALSCALE:GREGORIAN
METHOD:PUBLISH
X-ORIGINAL-URL:https://www.felicitydtp.ro
X-WR-CALDESC:Events for Felicitydtp | Drumetii si Cursuri de schi
REFRESH-INTERVAL;VALUE=DURATION:PT1H
X-Robots-Tag:noindex
X-PUBLISHED-TTL:PT1H
BEGIN:VTIMEZONE
TZID:Europe/Helsinki
BEGIN:DAYLIGHT
TZOFFSETFROM:+0200
TZOFFSETTO:+0300
TZNAME:EEST
DTSTART:20200329T010000
END:DAYLIGHT
BEGIN:STANDARD
TZOFFSETFROM:+0300
TZOFFSETTO:+0200
TZNAME:EET
DTSTART:20201025T010000
END:STANDARD
BEGIN:DAYLIGHT
TZOFFSETFROM:+0200
TZOFFSETTO:+0300
TZNAME:EEST
DTSTART:20210328T010000
END:DAYLIGHT
BEGIN:STANDARD
TZOFFSETFROM:+0300
TZOFFSETTO:+0200
TZNAME:EET
DTSTART:20211031T010000
END:STANDARD
END:VTIMEZONE
BEGIN:VEVENT
DTSTART;VALUE=DATE:20201226
DTEND;VALUE=DATE:20210301
DTSTAMP:20260421T011954
CREATED:20201013T061521Z
LAST-MODIFIED:20221116T104451Z
UID:8130-1608940800-1614556799@www.felicitydtp.ro
SUMMARY:TABERE DE SCHI ALPIN 2020-2021!
DESCRIPTION:Vă salut dragi iubitori de mișcare în aer liber! Hai in tabere de schi alpin! \nVă anunț cu bucurie că am postat pe site programul cursurilor de schi alpin din noul sezon! \n  \n 
URL:https://www.felicitydtp.ro/curs/tabere-de-schi-alpin-2020-2021/
LOCATION:Busteni
CATEGORIES:Cursuri schi
ATTACH;FMTTYPE=image/jpeg:https://www.felicitydtp.ro/wp-content/uploads/2017/11/Cursuri-schi-cursuri-ski-instructor-schi-schi-instructor-copii-schi-copii-felicitydtp-2-1030x579-1.jpg
ORGANIZER;CN="Felicia":MAILTO:office@felicitydtp.ro
END:VEVENT
BEGIN:VEVENT
DTSTART;VALUE=DATE:20210227
DTEND;VALUE=DATE:20210301
DTSTAMP:20260421T011954
CREATED:20201013T060151Z
LAST-MODIFIED:20221116T104044Z
UID:8122-1614384000-1614556799@www.felicitydtp.ro
SUMMARY:Cursuri de schi cu Felicia!
DESCRIPTION:Bună dragi viitori schiori! Hai la cursuri de schi in BUsteni! \nDe 10 ani sunt instructor de schi si lucrez cu bucurie cu fiecare dintre voi! \nVă invit să învățați să schiați cu mine pe pârtia Kalinderu din Bușteni.\nLucrez doar cu persoanele care vor să învețe să schieze cu adevărat. Acest curs este o investiție pe care o faceți o dată în viață (ca și școala de șoferi)! \n  \nÎnscrie-te ACUM!
URL:https://www.felicitydtp.ro/curs/cursuri-de-schi-cu-felicia-30/
LOCATION:Bușteni\, Partia Kalinderu\, Strada Matei Basarab 28\, Bușteni\, Prahova\, 105500\, România
CATEGORIES:Cursuri schi
ATTACH;FMTTYPE=image/jpeg:https://www.felicitydtp.ro/wp-content/uploads/2017/10/Cursuri-schi-cursuri-ski-instructor-schi-schi-instructor-copii-schi-copii-felicitydtp-33.jpg
ORGANIZER;CN="Felicia":MAILTO:office@felicitydtp.ro
END:VEVENT
END:VCALENDAR