BEGIN:VCALENDAR
VERSION:2.0
PRODID:-//Felicitydtp | Drumetii si Cursuri de schi - ECPv6.15.20//NONSGML v1.0//EN
CALSCALE:GREGORIAN
METHOD:PUBLISH
X-ORIGINAL-URL:https://www.felicitydtp.ro
X-WR-CALDESC:Evenimente pentru Felicitydtp | Drumetii si Cursuri de schi
REFRESH-INTERVAL;VALUE=DURATION:PT1H
X-Robots-Tag:noindex
X-PUBLISHED-TTL:PT1H
BEGIN:VTIMEZONE
TZID:Europe/Helsinki
BEGIN:DAYLIGHT
TZOFFSETFROM:+0200
TZOFFSETTO:+0300
TZNAME:EEST
DTSTART:20200329T010000
END:DAYLIGHT
BEGIN:STANDARD
TZOFFSETFROM:+0300
TZOFFSETTO:+0200
TZNAME:EET
DTSTART:20201025T010000
END:STANDARD
BEGIN:DAYLIGHT
TZOFFSETFROM:+0200
TZOFFSETTO:+0300
TZNAME:EEST
DTSTART:20210328T010000
END:DAYLIGHT
BEGIN:STANDARD
TZOFFSETFROM:+0300
TZOFFSETTO:+0200
TZNAME:EET
DTSTART:20211031T010000
END:STANDARD
BEGIN:DAYLIGHT
TZOFFSETFROM:+0200
TZOFFSETTO:+0300
TZNAME:EEST
DTSTART:20220327T010000
END:DAYLIGHT
BEGIN:STANDARD
TZOFFSETFROM:+0300
TZOFFSETTO:+0200
TZNAME:EET
DTSTART:20221030T010000
END:STANDARD
END:VTIMEZONE
BEGIN:VEVENT
DTSTART;VALUE=DATE:20210516
DTEND;VALUE=DATE:20210517
DTSTAMP:20260425T060234
CREATED:20200508T083306Z
LAST-MODIFIED:20210420T095538Z
UID:7928-1621123200-1621209599@www.felicitydtp.ro
SUMMARY:Poiana cu narcise\, Templul şi Moara
DESCRIPTION:Bine vă regăsesc dragi iubitori de natură! Vizităm în această zi un Templu\, mirosim narcisele şi descoperim cum funcţionează o moară de apă. \nDe data asta vă invit în locuri speciale din zona Braşovului. \nŞtiaţi că există o rezervaţie de narcise la Şinca  Veche? O pădure doar cu narcise… şi cu alte flori! \nŞtiţi de Templul de la Şinca Veche? Un paradis în pădure şi un loc foarte benefic pentru fiinţa noastră. \nŞi de Moara cu Apă aţi auzit? \nSigur aţi auzit de toate acestea! Poate le-aţi şi vizitat. Eu nu mă satur niciodată de aceste locuri magice! \nÎn această călătorie vă propun să gustăm din toate acestea spre încântarea sufletului şi trupului nostru. \nNe vom deplasa cu maşinile personale până şi între obiective. Sunt aproape. \nPrimul popas va fi la Templu\, la ora 9\,30. \nApoi vom vedea moara cu apă şi picnicul îl facem în poiana cu narcise. \nToate plimbările sunt foarte uşoare\, nu necesită nici un echipament special. \nMâncare să aveţi la voi şi sticle pentru a lua de la Templu apa necesară zilei. \nZona de picnic este un plai frumos unde putem zăbovi până la înserat. Vă recomand izoprene\, jocuri\, rachete\, minge\, etc. \nGhid turistic şi montan – Felicia Farcaş \nVă aşteptăm cu mare bucurie! \nps. Respect absolut faţă de tot ce găsim în natură şi faţă de oamenii cu care călătorim!
URL:https://www.felicitydtp.ro/curs/poiana-cu-narcise-templul-si-moara/
LOCATION:Sinca veche\, Mănăstirea rupestră\, România
CATEGORIES:Drumeții pentru familii
ATTACH;FMTTYPE=image/jpeg:https://www.felicitydtp.ro/wp-content/uploads/2020/05/IMG_20170520_081155-scaled.jpg
ORGANIZER;CN="Felicia si Claudia":MAILTO:office@felicitydtp.ro
END:VEVENT
END:VCALENDAR